BEGIN:VCALENDAR
VERSION:2.0
PRODID:-//Heritage Hills Resort - ECPv6.15.20//NONSGML v1.0//EN
CALSCALE:GREGORIAN
METHOD:PUBLISH
X-WR-CALNAME:Heritage Hills Resort
X-ORIGINAL-URL:https://heritagehillsresort.com
X-WR-CALDESC:Events for Heritage Hills Resort
REFRESH-INTERVAL;VALUE=DURATION:PT1H
X-Robots-Tag:noindex
X-PUBLISHED-TTL:PT1H
BEGIN:VTIMEZONE
TZID:America/New_York
BEGIN:DAYLIGHT
TZOFFSETFROM:-0500
TZOFFSETTO:-0400
TZNAME:EDT
DTSTART:20250309T070000
END:DAYLIGHT
BEGIN:STANDARD
TZOFFSETFROM:-0400
TZOFFSETTO:-0500
TZNAME:EST
DTSTART:20251102T060000
END:STANDARD
BEGIN:DAYLIGHT
TZOFFSETFROM:-0500
TZOFFSETTO:-0400
TZNAME:EDT
DTSTART:20260308T070000
END:DAYLIGHT
BEGIN:STANDARD
TZOFFSETFROM:-0400
TZOFFSETTO:-0500
TZNAME:EST
DTSTART:20261101T060000
END:STANDARD
BEGIN:DAYLIGHT
TZOFFSETFROM:-0500
TZOFFSETTO:-0400
TZNAME:EDT
DTSTART:20270314T070000
END:DAYLIGHT
BEGIN:STANDARD
TZOFFSETFROM:-0400
TZOFFSETTO:-0500
TZNAME:EST
DTSTART:20271107T060000
END:STANDARD
END:VTIMEZONE
BEGIN:VEVENT
DTSTART;TZID=America/New_York:20260514T190000
DTEND;TZID=America/New_York:20260514T220000
DTSTAMP:20260424T091023
CREATED:20260423T190123Z
LAST-MODIFIED:20260423T211111Z
UID:6860-1778785200-1778796000@heritagehillsresort.com
SUMMARY:Summer Concert Series Featuring Wileby Hayes
DESCRIPTION:Soak up the best nights of summer at Heritage Hills with live music\, great food\, and an unbeatable patio atmosphere. \nJoin us every Thursday and Sunday as we bring a rotating lineup of talented local artists to The Avenue Ale House. Whether you’re winding down after work or making a full night of it\, this is your go-to spot for summer vibes. \nWhat to expect:\n• Live music from a variety of local performers\n• Open-air patio overlooking the golf course\n• Cold drinks & seasonal cocktails 🍹\n• New food menu\n• A relaxed\, social atmosphere perfect for friends & family \nFrom sunset sets to evening performances\, every night brings a new sound and a new reason to come back.
URL:https://heritagehillsresort.com/event/summer-concert-series-featuring-wileby-hayes/
LOCATION:Avenue Ale House\, 2700 Mount Rose Ave\, York\, PA\, 17402-9207\, United States
CATEGORIES:Activities,Avenue Ale House Events
END:VEVENT
END:VCALENDAR