BEGIN:VCALENDAR
VERSION:2.0
PRODID:-//Heritage Hills Resort - ECPv6.15.20//NONSGML v1.0//EN
CALSCALE:GREGORIAN
METHOD:PUBLISH
X-ORIGINAL-URL:https://heritagehillsresort.com
X-WR-CALDESC:Events for Heritage Hills Resort
REFRESH-INTERVAL;VALUE=DURATION:PT1H
X-Robots-Tag:noindex
X-PUBLISHED-TTL:PT1H
BEGIN:VTIMEZONE
TZID:America/New_York
BEGIN:DAYLIGHT
TZOFFSETFROM:-0500
TZOFFSETTO:-0400
TZNAME:EDT
DTSTART:20250309T070000
END:DAYLIGHT
BEGIN:STANDARD
TZOFFSETFROM:-0400
TZOFFSETTO:-0500
TZNAME:EST
DTSTART:20251102T060000
END:STANDARD
BEGIN:DAYLIGHT
TZOFFSETFROM:-0500
TZOFFSETTO:-0400
TZNAME:EDT
DTSTART:20260308T070000
END:DAYLIGHT
BEGIN:STANDARD
TZOFFSETFROM:-0400
TZOFFSETTO:-0500
TZNAME:EST
DTSTART:20261101T060000
END:STANDARD
BEGIN:DAYLIGHT
TZOFFSETFROM:-0500
TZOFFSETTO:-0400
TZNAME:EDT
DTSTART:20270314T070000
END:DAYLIGHT
BEGIN:STANDARD
TZOFFSETFROM:-0400
TZOFFSETTO:-0500
TZNAME:EST
DTSTART:20271107T060000
END:STANDARD
END:VTIMEZONE
BEGIN:VEVENT
DTSTART;TZID=America/New_York:20260920T163000
DTEND;TZID=America/New_York:20260920T193000
DTSTAMP:20260425T064956
CREATED:20260423T191611Z
LAST-MODIFIED:20260423T211205Z
UID:6919-1789921800-1789932600@heritagehillsresort.com
SUMMARY:Summer Concert Series Featuring The Roommates
DESCRIPTION:Soak up the best nights of summer at Heritage Hills with live music\, great food\, and an unbeatable patio atmosphere. \nJoin us every Thursday and Sunday as we bring a rotating lineup of talented local artists to The Avenue Ale House. Whether you’re winding down after work or making a full night of it\, this is your go-to spot for summer vibes. \nWhat to expect:\n• Live music from a variety of local performers\n• Open-air patio overlooking the golf course\n• Cold drinks & seasonal cocktails 🍹\n• New food menu\n• A relaxed\, social atmosphere perfect for friends & family \nFrom sunset sets to evening performances\, every night brings a new sound and a new reason to come back.
URL:https://heritagehillsresort.com/event/summer-concert-series-featuring-the-roommates-2/
LOCATION:Avenue Ale House\, 2700 Mount Rose Ave\, York\, PA\, 17402-9207\, United States
CATEGORIES:Activities,Avenue Ale House Events
END:VEVENT
BEGIN:VEVENT
DTSTART;TZID=America/New_York:20260924T190000
DTEND;TZID=America/New_York:20260924T220000
DTSTAMP:20260425T064956
CREATED:20260423T192908Z
LAST-MODIFIED:20260423T211203Z
UID:6980-1790276400-1790287200@heritagehillsresort.com
SUMMARY:Summer Concert Series Featuring Dan McCaughey
DESCRIPTION:Soak up the best nights of summer at Heritage Hills with live music\, great food\, and an unbeatable patio atmosphere. \nJoin us every Thursday and Sunday as we bring a rotating lineup of talented local artists to The Avenue Ale House. Whether you’re winding down after work or making a full night of it\, this is your go-to spot for summer vibes. \nWhat to expect:\n• Live music from a variety of local performers\n• Open-air patio overlooking the golf course\n• Cold drinks & seasonal cocktails 🍹\n• New food menu\n• A relaxed\, social atmosphere perfect for friends & family \nFrom sunset sets to evening performances\, every night brings a new sound and a new reason to come back.
URL:https://heritagehillsresort.com/event/summer-concert-series-featuring-danmccaughey/
LOCATION:Avenue Ale House\, 2700 Mount Rose Ave\, York\, PA\, 17402-9207\, United States
CATEGORIES:Activities,Avenue Ale House Events
ATTACH;FMTTYPE=image/png:https://heritagehillsresort.com/wp-content/uploads/2026-summer-concer-series-lineup.png
END:VEVENT
BEGIN:VEVENT
DTSTART;TZID=America/New_York:20260927T163000
DTEND;TZID=America/New_York:20260927T193000
DTSTAMP:20260425T064956
CREATED:20260423T191644Z
LAST-MODIFIED:20260423T205938Z
UID:6922-1790526600-1790537400@heritagehillsresort.com
SUMMARY:Summer Concert Series Featuring Mystic Alpacas
DESCRIPTION:Soak up the best nights of summer at Heritage Hills with live music\, great food\, and an unbeatable patio atmosphere. \nJoin us every Thursday and Sunday as we bring a rotating lineup of talented local artists to The Avenue Ale House. Whether you’re winding down after work or making a full night of it\, this is your go-to spot for summer vibes. \nWhat to expect:\n• Live music from a variety of local performers\n• Open-air patio overlooking the golf course\n• Cold drinks & seasonal cocktails 🍹\n• New food menu\n• A relaxed\, social atmosphere perfect for friends & family \nFrom sunset sets to evening performances\, every night brings a new sound and a new reason to come back.
URL:https://heritagehillsresort.com/event/summer-concert-series-featuring-mystic-alpacas/
LOCATION:Avenue Ale House\, 2700 Mount Rose Ave\, York\, PA\, 17402-9207\, United States
CATEGORIES:Activities,Avenue Ale House Events
ATTACH;FMTTYPE=image/png:https://heritagehillsresort.com/wp-content/uploads/2026-summer-concer-series-lineup.png
END:VEVENT
END:VCALENDAR