BEGIN:VCALENDAR
VERSION:2.0
PRODID:-//Heritage Hills Resort - ECPv6.15.20//NONSGML v1.0//EN
CALSCALE:GREGORIAN
METHOD:PUBLISH
X-ORIGINAL-URL:https://heritagehillsresort.com
X-WR-CALDESC:Events for Heritage Hills Resort
REFRESH-INTERVAL;VALUE=DURATION:PT1H
X-Robots-Tag:noindex
X-PUBLISHED-TTL:PT1H
BEGIN:VTIMEZONE
TZID:America/New_York
BEGIN:DAYLIGHT
TZOFFSETFROM:-0500
TZOFFSETTO:-0400
TZNAME:EDT
DTSTART:20250309T070000
END:DAYLIGHT
BEGIN:STANDARD
TZOFFSETFROM:-0400
TZOFFSETTO:-0500
TZNAME:EST
DTSTART:20251102T060000
END:STANDARD
BEGIN:DAYLIGHT
TZOFFSETFROM:-0500
TZOFFSETTO:-0400
TZNAME:EDT
DTSTART:20260308T070000
END:DAYLIGHT
BEGIN:STANDARD
TZOFFSETFROM:-0400
TZOFFSETTO:-0500
TZNAME:EST
DTSTART:20261101T060000
END:STANDARD
BEGIN:DAYLIGHT
TZOFFSETFROM:-0500
TZOFFSETTO:-0400
TZNAME:EDT
DTSTART:20270314T070000
END:DAYLIGHT
BEGIN:STANDARD
TZOFFSETFROM:-0400
TZOFFSETTO:-0500
TZNAME:EST
DTSTART:20271107T060000
END:STANDARD
END:VTIMEZONE
BEGIN:VEVENT
DTSTART;TZID=America/New_York:20260604T190000
DTEND;TZID=America/New_York:20260604T220000
DTSTAMP:20260424T105440
CREATED:20260423T192003Z
LAST-MODIFIED:20260423T210603Z
UID:6933-1780599600-1780610400@heritagehillsresort.com
SUMMARY:Summer Concert Series Featuring Vince Miller
DESCRIPTION:Soak up the best nights of summer at Heritage Hills with live music\, great food\, and an unbeatable patio atmosphere. \nJoin us every Thursday and Sunday as we bring a rotating lineup of talented local artists to The Avenue Ale House. Whether you’re winding down after work or making a full night of it\, this is your go-to spot for summer vibes. \nWhat to expect:\n• Live music from a variety of local performers\n• Open-air patio overlooking the golf course\n• Cold drinks & seasonal cocktails 🍹\n• New food menu\n• A relaxed\, social atmosphere perfect for friends & family \nFrom sunset sets to evening performances\, every night brings a new sound and a new reason to come back.
URL:https://heritagehillsresort.com/event/summer-concert-series-featuring-vince-miller/
LOCATION:Avenue Ale House\, 2700 Mount Rose Ave\, York\, PA\, 17402-9207\, United States
CATEGORIES:Activities,Avenue Ale House Events
END:VEVENT
BEGIN:VEVENT
DTSTART;TZID=America/New_York:20260607T163000
DTEND;TZID=America/New_York:20260607T193000
DTSTAMP:20260424T105440
CREATED:20260423T190721Z
LAST-MODIFIED:20260423T210755Z
UID:6876-1780849800-1780860600@heritagehillsresort.com
SUMMARY:Summer Concert Series Featuring Bryan Scott Revival
DESCRIPTION:Soak up the best nights of summer at Heritage Hills with live music\, great food\, and an unbeatable patio atmosphere. \nJoin us every Thursday and Sunday as we bring a rotating lineup of talented local artists to The Avenue Ale House. Whether you’re winding down after work or making a full night of it\, this is your go-to spot for summer vibes. \nWhat to expect:\n• Live music from a variety of local performers\n• Open-air patio overlooking the golf course\n• Cold drinks & seasonal cocktails 🍹\n• New food menu\n• A relaxed\, social atmosphere perfect for friends & family \nFrom sunset sets to evening performances\, every night brings a new sound and a new reason to come back.
URL:https://heritagehillsresort.com/event/summer-concert-series-featuring-brian-scott/
LOCATION:Avenue Ale House\, 2700 Mount Rose Ave\, York\, PA\, 17402-9207\, United States
CATEGORIES:Activities,Avenue Ale House Events
END:VEVENT
BEGIN:VEVENT
DTSTART;TZID=America/New_York:20260611T190000
DTEND;TZID=America/New_York:20260611T220000
DTSTAMP:20260424T105440
CREATED:20260423T192032Z
LAST-MODIFIED:20260423T210738Z
UID:6937-1781204400-1781215200@heritagehillsresort.com
SUMMARY:Summer Concert Series Featuring Adam Blessing
DESCRIPTION:Soak up the best nights of summer at Heritage Hills with live music\, great food\, and an unbeatable patio atmosphere. \nJoin us every Thursday and Sunday as we bring a rotating lineup of talented local artists to The Avenue Ale House. Whether you’re winding down after work or making a full night of it\, this is your go-to spot for summer vibes. \nWhat to expect:\n• Live music from a variety of local performers\n• Open-air patio overlooking the golf course\n• Cold drinks & seasonal cocktails 🍹\n• New food menu\n• A relaxed\, social atmosphere perfect for friends & family \nFrom sunset sets to evening performances\, every night brings a new sound and a new reason to come back.
URL:https://heritagehillsresort.com/event/summer-concert-series-featuring-adam-blessing/
LOCATION:Avenue Ale House\, 2700 Mount Rose Ave\, York\, PA\, 17402-9207\, United States
CATEGORIES:Activities,Avenue Ale House Events
END:VEVENT
BEGIN:VEVENT
DTSTART;TZID=America/New_York:20260614T163000
DTEND;TZID=America/New_York:20260614T193000
DTSTAMP:20260424T105440
CREATED:20260423T190806Z
LAST-MODIFIED:20260423T211034Z
UID:6879-1781454600-1781465400@heritagehillsresort.com
SUMMARY:Summer Concert Series Featuring DeRose & The Dreadnoughts
DESCRIPTION:Soak up the best nights of summer at Heritage Hills with live music\, great food\, and an unbeatable patio atmosphere. \nJoin us every Thursday and Sunday as we bring a rotating lineup of talented local artists to The Avenue Ale House. Whether you’re winding down after work or making a full night of it\, this is your go-to spot for summer vibes. \nWhat to expect:\n• Live music from a variety of local performers\n• Open-air patio overlooking the golf course\n• Cold drinks & seasonal cocktails 🍹\n• New food menu\n• A relaxed\, social atmosphere perfect for friends & family \nFrom sunset sets to evening performances\, every night brings a new sound and a new reason to come back.
URL:https://heritagehillsresort.com/event/summer-concert-series-featuring-derose-dreadnoughts/
LOCATION:Avenue Ale House\, 2700 Mount Rose Ave\, York\, PA\, 17402-9207\, United States
CATEGORIES:Activities,Avenue Ale House Events
END:VEVENT
BEGIN:VEVENT
DTSTART;TZID=America/New_York:20260618T190000
DTEND;TZID=America/New_York:20260618T220000
DTSTAMP:20260424T105440
CREATED:20260423T192058Z
LAST-MODIFIED:20260423T211005Z
UID:6939-1781809200-1781820000@heritagehillsresort.com
SUMMARY:Summer Concert Series Featuring Beka Jones
DESCRIPTION:Soak up the best nights of summer at Heritage Hills with live music\, great food\, and an unbeatable patio atmosphere. \nJoin us every Thursday and Sunday as we bring a rotating lineup of talented local artists to The Avenue Ale House. Whether you’re winding down after work or making a full night of it\, this is your go-to spot for summer vibes. \nWhat to expect:\n• Live music from a variety of local performers\n• Open-air patio overlooking the golf course\n• Cold drinks & seasonal cocktails 🍹\n• New food menu\n• A relaxed\, social atmosphere perfect for friends & family \nFrom sunset sets to evening performances\, every night brings a new sound and a new reason to come back.
URL:https://heritagehillsresort.com/event/summer-concert-series-featuring-beka-jones/
LOCATION:Avenue Ale House\, 2700 Mount Rose Ave\, York\, PA\, 17402-9207\, United States
CATEGORIES:Activities,Avenue Ale House Events
END:VEVENT
BEGIN:VEVENT
DTSTART;TZID=America/New_York:20260621T163000
DTEND;TZID=America/New_York:20260621T193000
DTSTAMP:20260424T105440
CREATED:20260423T190835Z
LAST-MODIFIED:20260423T211002Z
UID:6880-1782059400-1782070200@heritagehillsresort.com
SUMMARY:Summer Concert Series Featuring Blessing & Fowler
DESCRIPTION:Soak up the best nights of summer at Heritage Hills with live music\, great food\, and an unbeatable patio atmosphere. \nJoin us every Thursday and Sunday as we bring a rotating lineup of talented local artists to The Avenue Ale House. Whether you’re winding down after work or making a full night of it\, this is your go-to spot for summer vibes. \nWhat to expect:\n• Live music from a variety of local performers\n• Open-air patio overlooking the golf course\n• Cold drinks & seasonal cocktails 🍹\n• New food menu\n• A relaxed\, social atmosphere perfect for friends & family \nFrom sunset sets to evening performances\, every night brings a new sound and a new reason to come back.
URL:https://heritagehillsresort.com/event/summer-concert-series-featuring-blessing-and-fowler/
LOCATION:Avenue Ale House\, 2700 Mount Rose Ave\, York\, PA\, 17402-9207\, United States
CATEGORIES:Activities,Avenue Ale House Events
END:VEVENT
BEGIN:VEVENT
DTSTART;TZID=America/New_York:20260625T190000
DTEND;TZID=America/New_York:20260625T220000
DTSTAMP:20260424T105440
CREATED:20260423T192133Z
LAST-MODIFIED:20260423T210958Z
UID:6943-1782414000-1782424800@heritagehillsresort.com
SUMMARY:Summer Concert Series Featuring Danny Spec
DESCRIPTION:Soak up the best nights of summer at Heritage Hills with live music\, great food\, and an unbeatable patio atmosphere. \nJoin us every Thursday and Sunday as we bring a rotating lineup of talented local artists to The Avenue Ale House. Whether you’re winding down after work or making a full night of it\, this is your go-to spot for summer vibes. \nWhat to expect:\n• Live music from a variety of local performers\n• Open-air patio overlooking the golf course\n• Cold drinks & seasonal cocktails 🍹\n• New food menu\n• A relaxed\, social atmosphere perfect for friends & family \nFrom sunset sets to evening performances\, every night brings a new sound and a new reason to come back.
URL:https://heritagehillsresort.com/event/summer-concert-series-featuring-danny-spec/
LOCATION:Avenue Ale House\, 2700 Mount Rose Ave\, York\, PA\, 17402-9207\, United States
CATEGORIES:Activities,Avenue Ale House Events
END:VEVENT
BEGIN:VEVENT
DTSTART;TZID=America/New_York:20260628T163000
DTEND;TZID=America/New_York:20260628T193000
DTSTAMP:20260424T105440
CREATED:20260423T190914Z
LAST-MODIFIED:20260423T210954Z
UID:6884-1782664200-1782675000@heritagehillsresort.com
SUMMARY:Summer Concert Series Featuring Tropical Soul
DESCRIPTION:Soak up the best nights of summer at Heritage Hills with live music\, great food\, and an unbeatable patio atmosphere. \nJoin us every Thursday and Sunday as we bring a rotating lineup of talented local artists to The Avenue Ale House. Whether you’re winding down after work or making a full night of it\, this is your go-to spot for summer vibes. \nWhat to expect:\n• Live music from a variety of local performers\n• Open-air patio overlooking the golf course\n• Cold drinks & seasonal cocktails 🍹\n• New food menu\n• A relaxed\, social atmosphere perfect for friends & family \nFrom sunset sets to evening performances\, every night brings a new sound and a new reason to come back.
URL:https://heritagehillsresort.com/event/summer-concert-series-featuring-tropical-soul/
LOCATION:Avenue Ale House\, 2700 Mount Rose Ave\, York\, PA\, 17402-9207\, United States
CATEGORIES:Activities,Avenue Ale House Events
END:VEVENT
END:VCALENDAR