BEGIN:VCALENDAR
VERSION:2.0
PRODID:-//Heritage Hills Resort - ECPv6.15.20//NONSGML v1.0//EN
CALSCALE:GREGORIAN
METHOD:PUBLISH
X-ORIGINAL-URL:https://heritagehillsresort.com
X-WR-CALDESC:Events for Heritage Hills Resort
REFRESH-INTERVAL;VALUE=DURATION:PT1H
X-Robots-Tag:noindex
X-PUBLISHED-TTL:PT1H
BEGIN:VTIMEZONE
TZID:America/New_York
BEGIN:DAYLIGHT
TZOFFSETFROM:-0500
TZOFFSETTO:-0400
TZNAME:EDT
DTSTART:20250309T070000
END:DAYLIGHT
BEGIN:STANDARD
TZOFFSETFROM:-0400
TZOFFSETTO:-0500
TZNAME:EST
DTSTART:20251102T060000
END:STANDARD
BEGIN:DAYLIGHT
TZOFFSETFROM:-0500
TZOFFSETTO:-0400
TZNAME:EDT
DTSTART:20260308T070000
END:DAYLIGHT
BEGIN:STANDARD
TZOFFSETFROM:-0400
TZOFFSETTO:-0500
TZNAME:EST
DTSTART:20261101T060000
END:STANDARD
BEGIN:DAYLIGHT
TZOFFSETFROM:-0500
TZOFFSETTO:-0400
TZNAME:EDT
DTSTART:20270314T070000
END:DAYLIGHT
BEGIN:STANDARD
TZOFFSETFROM:-0400
TZOFFSETTO:-0500
TZNAME:EST
DTSTART:20271107T060000
END:STANDARD
END:VTIMEZONE
BEGIN:VEVENT
DTSTART;TZID=America/New_York:20260510T163000
DTEND;TZID=America/New_York:20260510T193000
DTSTAMP:20260424T122621
CREATED:20260423T190350Z
LAST-MODIFIED:20260423T211136Z
UID:6863-1778430600-1778441400@heritagehillsresort.com
SUMMARY:Summer Concert Series Featuring NBQ
DESCRIPTION:Soak up the best nights of summer at Heritage Hills with live music\, great food\, and an unbeatable patio atmosphere. \nJoin us every Thursday and Sunday as we bring a rotating lineup of talented local artists to The Avenue Ale House. Whether you’re winding down after work or making a full night of it\, this is your go-to spot for summer vibes. \nWhat to expect:\n• Live music from a variety of local performers\n• Open-air patio overlooking the golf course\n• Cold drinks & seasonal cocktails 🍹\n• New food menu\n• A relaxed\, social atmosphere perfect for friends & family \nFrom sunset sets to evening performances\, every night brings a new sound and a new reason to come back.
URL:https://heritagehillsresort.com/event/summer-concert-series-featuring-nbq/
LOCATION:Avenue Ale House\, 2700 Mount Rose Ave\, York\, PA\, 17402-9207\, United States
CATEGORIES:Activities,Avenue Ale House Events
END:VEVENT
BEGIN:VEVENT
DTSTART;TZID=America/New_York:20260517T163000
DTEND;TZID=America/New_York:20260517T193000
DTSTAMP:20260424T122621
CREATED:20260423T190455Z
LAST-MODIFIED:20260423T211108Z
UID:6867-1779035400-1779046200@heritagehillsresort.com
SUMMARY:Summer concert Series Featuring Shine Delphi
DESCRIPTION:Soak up the best nights of summer at Heritage Hills with live music\, great food\, and an unbeatable patio atmosphere. \nJoin us every Thursday and Sunday as we bring a rotating lineup of talented local artists to The Avenue Ale House. Whether you’re winding down after work or making a full night of it\, this is your go-to spot for summer vibes. \nWhat to expect:\n• Live music from a variety of local performers\n• Open-air patio overlooking the golf course\n• Cold drinks & seasonal cocktails 🍹\n• New food menu\n• A relaxed\, social atmosphere perfect for friends & family \nFrom sunset sets to evening performances\, every night brings a new sound and a new reason to come back.
URL:https://heritagehillsresort.com/event/summer-concert-series-featuring-shine-delphi/
LOCATION:Avenue Ale House\, 2700 Mount Rose Ave\, York\, PA\, 17402-9207\, United States
CATEGORIES:Activities,Avenue Ale House Events
END:VEVENT
BEGIN:VEVENT
DTSTART;TZID=America/New_York:20260524T163000
DTEND;TZID=America/New_York:20260524T193000
DTSTAMP:20260424T122621
CREATED:20260423T190544Z
LAST-MODIFIED:20260423T211047Z
UID:6870-1779640200-1779651000@heritagehillsresort.com
SUMMARY:Summer concert Series Featuring SC & Wildflower Review
DESCRIPTION:Soak up the best nights of summer at Heritage Hills with live music\, great food\, and an unbeatable patio atmosphere. \nJoin us every Thursday and Sunday as we bring a rotating lineup of talented local artists to The Avenue Ale House. Whether you’re winding down after work or making a full night of it\, this is your go-to spot for summer vibes. \nWhat to expect:\n• Live music from a variety of local performers\n• Open-air patio overlooking the golf course\n• Cold drinks & seasonal cocktails 🍹\n• New food menu\n• A relaxed\, social atmosphere perfect for friends & family \nFrom sunset sets to evening performances\, every night brings a new sound and a new reason to come back.
URL:https://heritagehillsresort.com/event/summer-concert-series-featuring-sc-wildflowerreview/
LOCATION:Avenue Ale House\, 2700 Mount Rose Ave\, York\, PA\, 17402-9207\, United States
CATEGORIES:Activities,Avenue Ale House Events
END:VEVENT
BEGIN:VEVENT
DTSTART;TZID=America/New_York:20260531T163000
DTEND;TZID=America/New_York:20260531T193000
DTSTAMP:20260424T122621
CREATED:20260423T190630Z
LAST-MODIFIED:20260423T211041Z
UID:6873-1780245000-1780255800@heritagehillsresort.com
SUMMARY:Summer Concert Series Featuring The Neighborly
DESCRIPTION:Soak up the best nights of summer at Heritage Hills with live music\, great food\, and an unbeatable patio atmosphere. \nJoin us every Thursday and Sunday as we bring a rotating lineup of talented local artists to The Avenue Ale House. Whether you’re winding down after work or making a full night of it\, this is your go-to spot for summer vibes. \nWhat to expect:\n• Live music from a variety of local performers\n• Open-air patio overlooking the golf course\n• Cold drinks & seasonal cocktails 🍹\n• New food menu\n• A relaxed\, social atmosphere perfect for friends & family \nFrom sunset sets to evening performances\, every night brings a new sound and a new reason to come back.
URL:https://heritagehillsresort.com/event/summer-concert-series-featuring-the-neighborly/
LOCATION:Avenue Ale House\, 2700 Mount Rose Ave\, York\, PA\, 17402-9207\, United States
CATEGORIES:Activities,Avenue Ale House Events
END:VEVENT
END:VCALENDAR